BEGIN:VCALENDAR
VERSION:2.0
PRODID:-//hacksw/handcal//NONSGML v1.0//EN
BEGIN:VEVENT
SUMMARY:Jeux de l'Atlantique
UID:34ad71c4-bc31-452c-b4b8-0a2de65a433f
DTSTART:20260502T110000Z
DTEND:20260502T163000Z
LOCATION:Localisation stade michel lecointre  nantes
CATEGORIES:Sportif
STATUS:
DESCRIPTION:<h1>Triathlon des jeux de
 l'Atlantique</h1>
 
 <p> </p>
 
 <p> </p>
 
 <p>3 epreuves a choisir en
 les combinant tel que :</p>
 
 <p><strong>Triathlon general </strong>:
 une course + un saut + un lancer </p>
 
 <p><strong>Triathlon Oriente
 Sauts</strong> (U16) : 2 concours de Sauts + 1
 course </p>
 
 <p><strong>Triathlon Oriente Lancers </strong>(U16) :
 2 concours de lancers + 1 course </p>
 
 <p><strong>Triathlon Oriente
 Courses </strong>(U16) : 2 courses + 1 concours </p>
 
 <p>*concours =
 ensemble des sauts et lancers</p>
 
 <p> </p>
 
 <p>Inscriptions jusqu'a
 vendredi 24 avril.</p>
 
 <p>Renseignez vos possibilites de
 co-voiturage jusqu'a jeudi 30/04.</p>
URL;VALUE=URI:https://www.arsudlac.com/evenements/2026/05/02/jeux-de-latlantique-2442192
END:VEVENT
END:VCALENDAR
