BEGIN:VCALENDAR
VERSION:2.0
PRODID:-//hacksw/handcal//NONSGML v1.0//EN
BEGIN:VEVENT
SUMMARY:Departementaux piste 26
UID:5b4019bb-3a6c-4ec7-ab3e-29c810546be7
DTSTART:20260425T080000Z
DTEND:20260426T170000Z
LOCATION:Localisation 1 Av. Leo Lagrange 44600 
CATEGORIES:Sportif
STATUS:
DESCRIPTION:<p><strong>Departementaux cadet a seniors - toutes
 epreuves possibles</strong></p>
 
 <p> </p>
 
 <p>Pas de limites de
 places, ni de perfrormances minimales pour y prendre part: c'est la
 competition de reprise pour les athletes de Loire
 Atlantique</p>
 
 <p> </p>
 
 <p>pre-inscriptions avant le 19
 avril </p>
 
 <p> </p>
 
 <p>Maillot de club obligatoire</p>
URL;VALUE=URI:https://www.arsudlac.com/evenements/2026/04/25/departementaux-piste-26-2435919
END:VEVENT
END:VCALENDAR
